Package: ExperimentSubset Version: 1.18.1 Command: /home/biocbuild/R/R/bin/R CMD INSTALL ExperimentSubset StartedAt: 2025-10-13 20:38:10 -0000 (Mon, 13 Oct 2025) EndedAt: 2025-10-13 20:38:57 -0000 (Mon, 13 Oct 2025) EllapsedTime: 47.0 seconds RetCode: 0 Status: OK