Package: ExperimentSubset Version: 1.18.1 Command: /home/biocbuild/R/R/bin/R CMD build --keep-empty-dirs --no-resave-data ExperimentSubset StartedAt: 2025-10-14 00:48:05 -0000 (Tue, 14 Oct 2025) EndedAt: 2025-10-14 00:49:13 -0000 (Tue, 14 Oct 2025) EllapsedTime: 68.0 seconds RetCode: 0 Status: OK PackageFile: ExperimentSubset_1.18.1.tar.gz PackageFileSize: 333 KiB