Package: ExperimentSubset Version: 1.18.1 Command: /Library/Frameworks/R.framework/Resources/bin/R CMD INSTALL ExperimentSubset StartedAt: 2025-10-13 16:34:04 -0400 (Mon, 13 Oct 2025) EndedAt: 2025-10-13 16:34:44 -0400 (Mon, 13 Oct 2025) EllapsedTime: 39.8 seconds RetCode: 0 Status: OK