Package: ExperimentSubset Version: 1.18.1 Command: /Library/Frameworks/R.framework/Resources/bin/R CMD build --keep-empty-dirs --no-resave-data ExperimentSubset StartedAt: 2025-10-14 00:13:28 -0400 (Tue, 14 Oct 2025) EndedAt: 2025-10-14 00:14:27 -0400 (Tue, 14 Oct 2025) EllapsedTime: 59.1 seconds RetCode: 0 Status: OK PackageFile: ExperimentSubset_1.18.1.tar.gz PackageFileSize: 307.4 KiB