Package: ExperimentSubset Version: 1.18.1 Command: rm -rf ExperimentSubset.buildbin-libdir && mkdir ExperimentSubset.buildbin-libdir && /Users/biocbuild/BBS/utils/build-universal.sh ExperimentSubset_1.18.1.tar.gz /Library/Frameworks/R.framework/Resources/bin/R ExperimentSubset.buildbin-libdir StartedAt: 2025-10-15 18:28:21 -0400 (Wed, 15 Oct 2025) EndedAt: 2025-10-15 18:29:05 -0400 (Wed, 15 Oct 2025) EllapsedTime: 44.3 seconds RetCode: 0 Status: OK PackageFile: ExperimentSubset_1.18.1.tgz PackageFileSize: 709 KiB