Package: ExperimentHubData Version: 1.34.0 Command: rm -rf ExperimentHubData.buildbin-libdir && mkdir ExperimentHubData.buildbin-libdir && /Users/biocbuild/BBS/utils/build-universal.sh ExperimentHubData_1.34.0.tar.gz /Library/Frameworks/R.framework/Resources/bin/R ExperimentHubData.buildbin-libdir StartedAt: 2025-04-22 00:45:02 -0400 (Tue, 22 Apr 2025) EndedAt: 2025-04-22 00:45:59 -0400 (Tue, 22 Apr 2025) EllapsedTime: 57.0 seconds RetCode: 0 Status: OK PackageFile: ExperimentHubData_1.34.0.tgz PackageFileSize: 518.8 KiB