Package: ExperimentHubData Version: 1.34.0 Command: /Library/Frameworks/R.framework/Resources/bin/R CMD INSTALL ExperimentHubData StartedAt: 2025-10-13 17:34:34 -0400 (Mon, 13 Oct 2025) EndedAt: 2025-10-13 17:35:21 -0400 (Mon, 13 Oct 2025) EllapsedTime: 47.4 seconds RetCode: 0 Status: OK