Package: ExperimentHubData Version: 1.34.0 Command: /Library/Frameworks/R.framework/Resources/bin/R CMD build --keep-empty-dirs --no-resave-data ExperimentHubData StartedAt: 2025-10-14 00:13:17 -0400 (Tue, 14 Oct 2025) EndedAt: 2025-10-14 00:14:08 -0400 (Tue, 14 Oct 2025) EllapsedTime: 51.3 seconds RetCode: 0 Status: OK PackageFile: ExperimentHubData_1.34.0.tar.gz PackageFileSize: 223 KiB