Package: ExperimentHubData Version: 1.34.0 Command: rm -rf ExperimentHubData.buildbin-libdir && mkdir ExperimentHubData.buildbin-libdir && /Users/biocbuild/BBS/utils/build-universal.sh ExperimentHubData_1.34.0.tar.gz /Library/Frameworks/R.framework/Resources/bin/R ExperimentHubData.buildbin-libdir StartedAt: 2025-10-15 18:28:05 -0400 (Wed, 15 Oct 2025) EndedAt: 2025-10-15 18:28:57 -0400 (Wed, 15 Oct 2025) EllapsedTime: 52.4 seconds RetCode: 0 Status: OK PackageFile: ExperimentHubData_1.34.0.tgz PackageFileSize: 518.9 KiB