Package: ExiMiR Version: 2.50.0 Command: /home/biocbuild/R/R/bin/R CMD INSTALL ExiMiR StartedAt: 2025-10-13 20:24:26 -0000 (Mon, 13 Oct 2025) EndedAt: 2025-10-13 20:24:35 -0000 (Mon, 13 Oct 2025) EllapsedTime: 9.5 seconds RetCode: 0 Status: OK