Package: ExiMiR Version: 2.50.0 Command: /home/biocbuild/R/R/bin/R CMD build --keep-empty-dirs --no-resave-data ExiMiR StartedAt: 2025-10-14 00:47:11 -0000 (Tue, 14 Oct 2025) EndedAt: 2025-10-14 00:48:58 -0000 (Tue, 14 Oct 2025) EllapsedTime: 107.0 seconds RetCode: 0 Status: OK PackageFile: ExiMiR_2.50.0.tar.gz PackageFileSize: 1.497 MiB