Package: ExCluster Version: 1.26.0 Command: /home/biocbuild/bbs-3.21-bioc/R/bin/R CMD build --keep-empty-dirs --no-resave-data ExCluster StartedAt: 2025-10-15 17:27:50 -0400 (Wed, 15 Oct 2025) EndedAt: 2025-10-15 17:28:33 -0400 (Wed, 15 Oct 2025) EllapsedTime: 42.2 seconds RetCode: 0 Status: OK PackageFile: ExCluster_1.26.0.tar.gz PackageFileSize: 404.8 KiB