Package: ExCluster Version: 1.26.0 Command: /home/biocbuild/R/R/bin/R CMD INSTALL ExCluster StartedAt: 2025-10-13 20:41:02 -0000 (Mon, 13 Oct 2025) EndedAt: 2025-10-13 20:41:44 -0000 (Mon, 13 Oct 2025) EllapsedTime: 41.6 seconds RetCode: 0 Status: OK