Package: ExCluster Version: 1.26.0 Command: /Library/Frameworks/R.framework/Resources/bin/R CMD INSTALL ExCluster StartedAt: 2025-10-13 16:39:21 -0400 (Mon, 13 Oct 2025) EndedAt: 2025-10-13 16:39:56 -0400 (Mon, 13 Oct 2025) EllapsedTime: 35.0 seconds RetCode: 0 Status: OK