Package: EventPointer Version: 3.16.0 Command: /Library/Frameworks/R.framework/Resources/bin/R CMD INSTALL EventPointer StartedAt: 2025-10-13 16:50:32 -0400 (Mon, 13 Oct 2025) EndedAt: 2025-10-13 16:52:17 -0400 (Mon, 13 Oct 2025) EllapsedTime: 104.3 seconds RetCode: 0 Status: OK