Package: EventPointer Version: 3.16.0 Command: /Library/Frameworks/R.framework/Resources/bin/R CMD build --keep-empty-dirs --no-resave-data EventPointer StartedAt: 2025-10-13 18:59:32 -0400 (Mon, 13 Oct 2025) EndedAt: 2025-10-13 19:02:22 -0400 (Mon, 13 Oct 2025) EllapsedTime: 170.6 seconds RetCode: 0 Status: OK PackageFile: EventPointer_3.16.0.tar.gz PackageFileSize: 1.642 MiB