Package: EventPointer Version: 3.16.0 Command: /home/biocbuild/R/R/bin/R CMD INSTALL EventPointer StartedAt: 2025-10-13 21:19:40 -0000 (Mon, 13 Oct 2025) EndedAt: 2025-10-13 21:20:55 -0000 (Mon, 13 Oct 2025) EllapsedTime: 75.2 seconds RetCode: 0 Status: OK