Package: EventPointer Version: 3.16.0 Command: /Library/Frameworks/R.framework/Resources/bin/R CMD INSTALL EventPointer StartedAt: 2025-10-13 18:41:11 -0400 (Mon, 13 Oct 2025) EndedAt: 2025-10-13 18:42:12 -0400 (Mon, 13 Oct 2025) EllapsedTime: 61.5 seconds RetCode: 0 Status: OK