Package: EventPointer Version: 3.16.0 Command: rm -rf EventPointer.buildbin-libdir && mkdir EventPointer.buildbin-libdir && /Users/biocbuild/BBS/utils/build-universal.sh EventPointer_3.16.0.tar.gz /Library/Frameworks/R.framework/Resources/bin/R EventPointer.buildbin-libdir StartedAt: 2025-10-15 18:27:26 -0400 (Wed, 15 Oct 2025) EndedAt: 2025-10-15 18:28:35 -0400 (Wed, 15 Oct 2025) EllapsedTime: 69.3 seconds RetCode: 0 Status: OK PackageFile: EventPointer_3.16.0.tgz PackageFileSize: 1.312 MiB