Package: EpiTxDb Version: 1.20.0 Command: /home/biocbuild/R/R/bin/R CMD INSTALL EpiTxDb StartedAt: 2025-10-13 20:55:20 -0000 (Mon, 13 Oct 2025) EndedAt: 2025-10-13 20:56:22 -0000 (Mon, 13 Oct 2025) EllapsedTime: 62.4 seconds RetCode: 0 Status: OK