Package: EpiDISH Version: 2.24.0 Command: /home/biocbuild/R/R/bin/R CMD INSTALL EpiDISH StartedAt: 2025-10-13 20:16:07 -0000 (Mon, 13 Oct 2025) EndedAt: 2025-10-13 20:16:14 -0000 (Mon, 13 Oct 2025) EllapsedTime: 7.4 seconds RetCode: 0 Status: OK