Package: EnrichedHeatmap Version: 1.38.0 Command: /home/biocbuild/R/R/bin/R CMD build --keep-empty-dirs --no-resave-data EnrichedHeatmap StartedAt: 2025-10-14 00:36:03 -0000 (Tue, 14 Oct 2025) EndedAt: 2025-10-14 00:43:12 -0000 (Tue, 14 Oct 2025) EllapsedTime: 429.1 seconds RetCode: 0 Status: OK PackageFile: EnrichedHeatmap_1.38.0.tar.gz PackageFileSize: 11.73 MiB