Package: EnrichedHeatmap Version: 1.38.0 Command: /Library/Frameworks/R.framework/Resources/bin/R CMD INSTALL EnrichedHeatmap StartedAt: 2025-10-13 16:00:19 -0400 (Mon, 13 Oct 2025) EndedAt: 2025-10-13 16:00:39 -0400 (Mon, 13 Oct 2025) EllapsedTime: 20.1 seconds RetCode: 0 Status: OK