Package: EnrichedHeatmap Version: 1.38.0 Command: rm -rf EnrichedHeatmap.buildbin-libdir && mkdir EnrichedHeatmap.buildbin-libdir && /Users/biocbuild/BBS/utils/build-universal.sh EnrichedHeatmap_1.38.0.tar.gz /Library/Frameworks/R.framework/Resources/bin/R EnrichedHeatmap.buildbin-libdir StartedAt: 2025-10-15 18:22:24 -0400 (Wed, 15 Oct 2025) EndedAt: 2025-10-15 18:22:50 -0400 (Wed, 15 Oct 2025) EllapsedTime: 26.4 seconds RetCode: 0 Status: OK PackageFile: EnrichedHeatmap_1.38.0.tgz PackageFileSize: 11.99 MiB