Package: EnhancedVolcano Version: 1.26.0 Command: /Library/Frameworks/R.framework/Resources/bin/R CMD INSTALL EnhancedVolcano StartedAt: 2025-04-21 15:08:18 -0400 (Mon, 21 Apr 2025) EndedAt: 2025-04-21 15:08:57 -0400 (Mon, 21 Apr 2025) EllapsedTime: 39.4 seconds RetCode: 0 Status: OK