Package: EnhancedVolcano Version: 1.26.0 Command: /home/biocbuild/R/R/bin/R CMD INSTALL EnhancedVolcano StartedAt: 2025-10-13 20:18:41 -0000 (Mon, 13 Oct 2025) EndedAt: 2025-10-13 20:18:56 -0000 (Mon, 13 Oct 2025) EllapsedTime: 15.3 seconds RetCode: 0 Status: OK