Package: EnhancedVolcano Version: 1.26.0 Command: /home/biocbuild/R/R/bin/R CMD build --keep-empty-dirs --no-resave-data EnhancedVolcano StartedAt: 2025-10-14 00:33:51 -0000 (Tue, 14 Oct 2025) EndedAt: 2025-10-14 00:36:03 -0000 (Tue, 14 Oct 2025) EllapsedTime: 132.0 seconds RetCode: 0 Status: OK PackageFile: EnhancedVolcano_1.26.0.tar.gz PackageFileSize: 8.962 MiB