Package: EmpiricalBrownsMethod Version: 1.36.0 Command: /Library/Frameworks/R.framework/Resources/bin/R CMD build --keep-empty-dirs --no-resave-data EmpiricalBrownsMethod StartedAt: 2025-10-13 18:49:17 -0400 (Mon, 13 Oct 2025) EndedAt: 2025-10-13 18:49:25 -0400 (Mon, 13 Oct 2025) EllapsedTime: 8.5 seconds RetCode: 0 Status: OK PackageFile: EmpiricalBrownsMethod_1.36.0.tar.gz PackageFileSize: 38.69 KiB