Package: EmpiricalBrownsMethod Version: 1.36.0 Command: /home/biocbuild/R/R/bin/R CMD INSTALL EmpiricalBrownsMethod StartedAt: 2025-10-13 20:12:27 -0000 (Mon, 13 Oct 2025) EndedAt: 2025-10-13 20:12:41 -0000 (Mon, 13 Oct 2025) EllapsedTime: 13.6 seconds RetCode: 0 Status: OK