Package: EmpiricalBrownsMethod Version: 1.36.0 Command: rm -rf EmpiricalBrownsMethod.buildbin-libdir && mkdir EmpiricalBrownsMethod.buildbin-libdir && /Users/biocbuild/BBS/utils/build-universal.sh EmpiricalBrownsMethod_1.36.0.tar.gz /Library/Frameworks/R.framework/Resources/bin/R EmpiricalBrownsMethod.buildbin-libdir StartedAt: 2025-10-15 18:21:39 -0400 (Wed, 15 Oct 2025) EndedAt: 2025-10-15 18:21:42 -0400 (Wed, 15 Oct 2025) EllapsedTime: 3.4 seconds RetCode: 0 Status: OK PackageFile: EmpiricalBrownsMethod_1.36.0.tgz PackageFileSize: 51.34 KiB