Package: EDASeq Version: 2.42.0 Command: /home/biocbuild/R/R/bin/R CMD INSTALL EDASeq StartedAt: 2025-10-13 21:09:02 -0000 (Mon, 13 Oct 2025) EndedAt: 2025-10-13 21:10:03 -0000 (Mon, 13 Oct 2025) EllapsedTime: 60.5 seconds RetCode: 0 Status: OK