Package: EBarrays Version: 2.72.0 Command: /home/biocbuild/bbs-3.21-bioc/R/bin/R CMD build --keep-empty-dirs --no-resave-data EBarrays StartedAt: 2025-10-15 17:19:33 -0400 (Wed, 15 Oct 2025) EndedAt: 2025-10-15 17:19:50 -0400 (Wed, 15 Oct 2025) EllapsedTime: 17.0 seconds RetCode: 0 Status: OK PackageFile: EBarrays_2.72.0.tar.gz PackageFileSize: 1.039 MiB