Package: EBarrays Version: 2.72.0 Command: /Library/Frameworks/R.framework/Resources/bin/R CMD INSTALL EBarrays StartedAt: 2025-10-13 15:22:13 -0400 (Mon, 13 Oct 2025) EndedAt: 2025-10-13 15:22:26 -0400 (Mon, 13 Oct 2025) EllapsedTime: 13.0 seconds RetCode: 0 Status: OK