Package: EBarrays Version: 2.72.0 Command: /home/biocbuild/R/R/bin/R CMD INSTALL EBarrays StartedAt: 2025-10-13 20:24:07 -0000 (Mon, 13 Oct 2025) EndedAt: 2025-10-13 20:24:15 -0000 (Mon, 13 Oct 2025) EllapsedTime: 7.7 seconds RetCode: 0 Status: OK