Package: EBarrays Version: 2.72.0 Command: /home/biocbuild/R/R/bin/R CMD build --keep-empty-dirs --no-resave-data EBarrays StartedAt: 2025-10-14 00:31:36 -0000 (Tue, 14 Oct 2025) EndedAt: 2025-10-14 00:32:03 -0000 (Tue, 14 Oct 2025) EllapsedTime: 27.0 seconds RetCode: 0 Status: OK PackageFile: EBarrays_2.72.0.tar.gz PackageFileSize: 1.027 MiB