Package: EBarrays Version: 2.72.0 Command: /Library/Frameworks/R.framework/Resources/bin/R CMD build --keep-empty-dirs --no-resave-data EBarrays StartedAt: 2025-10-13 23:43:02 -0400 (Mon, 13 Oct 2025) EndedAt: 2025-10-13 23:43:30 -0400 (Mon, 13 Oct 2025) EllapsedTime: 28.5 seconds RetCode: 0 Status: OK PackageFile: EBarrays_2.72.0.tar.gz PackageFileSize: 1.04 MiB