Package: DynDoc Version: 1.86.0 Command: /home/biocbuild/bbs-3.21-bioc/R/bin/R CMD INSTALL DynDoc StartedAt: 2025-10-15 15:02:03 -0400 (Wed, 15 Oct 2025) EndedAt: 2025-10-15 15:02:07 -0400 (Wed, 15 Oct 2025) EllapsedTime: 3.8 seconds RetCode: 0 Status: OK