Package: DynDoc Version: 1.86.0 Command: /Library/Frameworks/R.framework/Resources/bin/R CMD INSTALL DynDoc StartedAt: 2025-10-13 15:06:18 -0400 (Mon, 13 Oct 2025) EndedAt: 2025-10-13 15:06:32 -0400 (Mon, 13 Oct 2025) EllapsedTime: 14.3 seconds RetCode: 0 Status: OK