Package: DynDoc Version: 1.86.0 Command: /Library/Frameworks/R.framework/Resources/bin/R CMD build --keep-empty-dirs --no-resave-data DynDoc StartedAt: 2025-10-13 18:46:45 -0400 (Mon, 13 Oct 2025) EndedAt: 2025-10-13 18:46:47 -0400 (Mon, 13 Oct 2025) EllapsedTime: 2.2 seconds RetCode: 0 Status: OK PackageFile: DynDoc_1.86.0.tar.gz PackageFileSize: 10.97 KiB