Package: DynDoc Version: 1.86.0 Command: /home/biocbuild/R/R/bin/R CMD build --keep-empty-dirs --no-resave-data DynDoc StartedAt: 2025-10-14 00:31:13 -0000 (Tue, 14 Oct 2025) EndedAt: 2025-10-14 00:31:14 -0000 (Tue, 14 Oct 2025) EllapsedTime: 1.0 seconds RetCode: 0 Status: OK PackageFile: DynDoc_1.86.0.tar.gz PackageFileSize: 10.98 KiB