Package: DynDoc Version: 1.86.0 Command: /Library/Frameworks/R.framework/Resources/bin/R CMD INSTALL DynDoc StartedAt: 2025-10-13 15:07:49 -0400 (Mon, 13 Oct 2025) EndedAt: 2025-10-13 15:07:53 -0400 (Mon, 13 Oct 2025) EllapsedTime: 4.2 seconds RetCode: 0 Status: OK