Package: DuplexDiscovereR Version: 1.2.0 Command: /home/biocbuild/R/R/bin/R CMD INSTALL DuplexDiscovereR StartedAt: 2025-10-13 21:03:48 -0000 (Mon, 13 Oct 2025) EndedAt: 2025-10-13 21:05:49 -0000 (Mon, 13 Oct 2025) EllapsedTime: 120.5 seconds RetCode: 0 Status: OK