Package: DuplexDiscovereR Version: 1.2.0 Command: /home/biocbuild/R/R/bin/R CMD build --keep-empty-dirs --no-resave-data DuplexDiscovereR StartedAt: 2025-10-14 00:30:43 -0000 (Tue, 14 Oct 2025) EndedAt: 2025-10-14 00:33:40 -0000 (Tue, 14 Oct 2025) EllapsedTime: 177.1 seconds RetCode: 0 Status: OK PackageFile: DuplexDiscovereR_1.2.0.tar.gz PackageFileSize: 1.028 MiB