Package: DropletUtils Version: 1.28.1 Command: /home/biocbuild/bbs-3.21-bioc/R/bin/R CMD INSTALL DropletUtils StartedAt: 2025-10-15 15:35:00 -0400 (Wed, 15 Oct 2025) EndedAt: 2025-10-15 15:36:05 -0400 (Wed, 15 Oct 2025) EllapsedTime: 64.6 seconds RetCode: 0 Status: OK