Package: DropletUtils Version: 1.28.1 Command: /home/biocbuild/bbs-3.21-bioc/R/bin/R CMD build --keep-empty-dirs --no-resave-data DropletUtils StartedAt: 2025-10-15 17:18:05 -0400 (Wed, 15 Oct 2025) EndedAt: 2025-10-15 17:19:28 -0400 (Wed, 15 Oct 2025) EllapsedTime: 83.1 seconds RetCode: 0 Status: OK PackageFile: DropletUtils_1.28.1.tar.gz PackageFileSize: 588.5 KiB