Package: DropletUtils Version: 1.28.1 Command: /home/biocbuild/R/R/bin/R CMD INSTALL DropletUtils StartedAt: 2025-10-13 20:51:29 -0000 (Mon, 13 Oct 2025) EndedAt: 2025-10-13 20:53:07 -0000 (Mon, 13 Oct 2025) EllapsedTime: 97.9 seconds RetCode: 0 Status: OK