Package: DropletUtils Version: 1.28.1 Command: /home/biocbuild/R/R/bin/R CMD build --keep-empty-dirs --no-resave-data DropletUtils StartedAt: 2025-10-14 00:29:33 -0000 (Tue, 14 Oct 2025) EndedAt: 2025-10-14 00:31:30 -0000 (Tue, 14 Oct 2025) EllapsedTime: 117.0 seconds RetCode: 0 Status: OK PackageFile: DropletUtils_1.28.1.tar.gz PackageFileSize: 596.8 KiB