Package: DropletUtils Version: 1.28.1 Command: /Library/Frameworks/R.framework/Resources/bin/R CMD INSTALL DropletUtils StartedAt: 2025-10-13 16:47:49 -0400 (Mon, 13 Oct 2025) EndedAt: 2025-10-13 16:48:55 -0400 (Mon, 13 Oct 2025) EllapsedTime: 66.4 seconds RetCode: 0 Status: OK