Package: DropletUtils Version: 1.28.1 Command: /Library/Frameworks/R.framework/Resources/bin/R CMD build --keep-empty-dirs --no-resave-data DropletUtils StartedAt: 2025-10-13 23:34:56 -0400 (Mon, 13 Oct 2025) EndedAt: 2025-10-13 23:36:26 -0400 (Mon, 13 Oct 2025) EllapsedTime: 90.1 seconds RetCode: 0 Status: OK PackageFile: DropletUtils_1.28.1.tar.gz PackageFileSize: 615.1 KiB