Package: DriverNet Version: 1.48.0 Command: /home/biocbuild/bbs-3.21-bioc/R/bin/R CMD INSTALL DriverNet StartedAt: 2025-10-15 15:03:46 -0400 (Wed, 15 Oct 2025) EndedAt: 2025-10-15 15:04:05 -0400 (Wed, 15 Oct 2025) EllapsedTime: 18.4 seconds RetCode: 0 Status: OK